BEGIN:VCALENDAR
VERSION:2.0
PRODID:-//春河劇團 - ECPv6.15.17.1//NONSGML v1.0//EN
CALSCALE:GREGORIAN
METHOD:PUBLISH
X-WR-CALNAME:春河劇團
X-ORIGINAL-URL:https://spring-river.com.tw
X-WR-CALDESC:Events for 春河劇團
REFRESH-INTERVAL;VALUE=DURATION:PT1H
X-Robots-Tag:noindex
X-PUBLISHED-TTL:PT1H
BEGIN:VTIMEZONE
TZID:Asia/Taipei
BEGIN:STANDARD
TZOFFSETFROM:+0800
TZOFFSETTO:+0800
TZNAME:CST
DTSTART:20220101T000000
END:STANDARD
END:VTIMEZONE
BEGIN:VEVENT
DTSTART;TZID=Asia/Taipei:20231105T143000
DTEND;TZID=Asia/Taipei:20231105T170000
DTSTAMP:20260422T193526
CREATED:20230919T055113Z
LAST-MODIFIED:20231012T003749Z
UID:1026-1699194600-1699203600@spring-river.com.tw
SUMMARY:我妻我母我丈母娘 - 2023巡演臺北11/05午場
DESCRIPTION:112年11/3 -12/10 巡演開跑 ！ \n劇情介紹 \n新娘帶球走，上車補票算什麼？\n看我妻新婚牽娘嫁，丈母娘大戰我老母！\n三個女人帶著對同一個男人的牽絆，分別以妻子、母親、丈母娘的身份再續前緣，連孟婆也被拖下水？！四人生活在一個屋簷下，盡為了雞毛蒜皮小事爭吵，說到底都是以愛為名，這錯縱複雜的愛能否有大和解的一天…。 \n且看郎祖筠、趙自強、呂雪鳳詼諧幽默又夾雜諷刺的演繹和對話。\n在笑與淚中道出為人子女、媳婦、女婿的各種愛與難處。 \n  \n演出場次 \n臺北親子劇場 11/03-05 (五)-(日)14：30、19：30\n桃園展演中心展演廳 11/11-12 (六)-(日)14：30\n高雄文化中心至德堂 11/25-26 (六)-(日)14：30\n臺中中山堂 12/09-10 (六)-(日)14：30 \n  \n購票連結
URL:https://spring-river.com.tw/event/my-wife-20231105-1/
LOCATION:臺北市政府親子劇場\, 信義區市府路1號2F\, 台北市\, 台灣
CATEGORIES:2023 我妻
ATTACH;FMTTYPE=image/jpeg:https://spring-river.com.tw/wp-content/uploads/2023/09/2K-100.jpg
ORGANIZER;CN="%E6%98%A5%E6%B2%B3%E5%8A%87%E5%9C%98":MAILTO:springsunpat@gmail.com
END:VEVENT
END:VCALENDAR