BEGIN:VCALENDAR
VERSION:2.0
PRODID:-//春河劇團 - ECPv6.15.17.1//NONSGML v1.0//EN
CALSCALE:GREGORIAN
METHOD:PUBLISH
X-ORIGINAL-URL:https://spring-river.com.tw
X-WR-CALDESC:Events for 春河劇團
REFRESH-INTERVAL;VALUE=DURATION:PT1H
X-Robots-Tag:noindex
X-PUBLISHED-TTL:PT1H
BEGIN:VTIMEZONE
TZID:Asia/Taipei
BEGIN:STANDARD
TZOFFSETFROM:+0800
TZOFFSETTO:+0800
TZNAME:CST
DTSTART:20230101T000000
END:STANDARD
END:VTIMEZONE
BEGIN:VEVENT
DTSTART;TZID=Asia/Taipei:20240706T143000
DTEND;TZID=Asia/Taipei:20240706T173000
DTSTAMP:20260423T040005
CREATED:20240426T040040Z
LAST-MODIFIED:20240426T040448Z
UID:1940-1720276200-1720287000@spring-river.com.tw
SUMMARY:《把我娶回家》 7/6 臺南巡演
DESCRIPTION:結婚從來都不是兩個「人」的事\n人鬼戀?異國戀？究竟誰要跟誰結婚？\n能一起走下去的才是幸福的一對\n把我娶回家，把幸福娶回家\n一起進劇場找幸福\n  \n劇情介紹\n一個隻身旅行的老外，撿起路邊的一只紅包袋，竟開啟了一段不可思議的旅程。\n鄉里間一個頗富盛名的老茶行，家中寶貝孫女因意外18歲早逝，一年後，竟託夢給阿嬤討要姻緣。虔誠保守的一家人為了這樁人鬼聯姻，搞得人仰鬼翻。\n長輩們決定以傳統冥婚丟紅包的方式，三姑六婆躲在暗處窺探，靜待有緣人。\n只是，經過無數個過客，每每期待又次次落空⋯\n經過擲筊，被孫女認定的「夫婿」竟然是個老外！！\n最終，老外到底娶了誰回家？ \n  \n\n\n演出場次\n\n\n\n\n\n113年\n05/03-07/28 隆重登場\n\n\n\n\n113/5/3-4 (五)-(六) 19:30 臺北城市舞台\n113/5/4-5 (六)-(日) 14:30 臺北城市舞台\n113/5/18 (六) 14:30 新竹縣政府文化局演藝廳\n113/6/1-2 (六)-(日) 14:30臺中國家歌劇院大劇院\n113/6/8 (六) 14:30、19:30 高雄衛武營國家戲劇院\n113/6/15 (六)14:30 桃園展演中心展演廳\n113/7/6 (六) 14:30 臺南文化中心演藝廳\n113/7/27 (六)19:30-7/28(日) 14:30雲林表演廳 \n購票連結
URL:https://spring-river.com.tw/event/%e3%80%8a%e6%8a%8a%e6%88%91%e5%a8%b6%e5%9b%9e%e5%ae%b6%e3%80%8b-7-6-%e8%87%ba%e5%8d%97%e5%b7%a1%e6%bc%94/
LOCATION:臺南文化中心\, 東區中華東路三段332號\, 台南市\, 701\, 台灣
CATEGORIES:2024 把我娶回家
ATTACH;FMTTYPE=image/png:https://spring-river.com.tw/wp-content/uploads/2024/01/官網banner.png
ORGANIZER;CN="%E6%98%A5%E6%B2%B3%E5%8A%87%E5%9C%98":MAILTO:springsunpat@gmail.com
END:VEVENT
END:VCALENDAR