BEGIN:VCALENDAR
VERSION:2.0
PRODID:-//春河劇團 - ECPv6.15.17.1//NONSGML v1.0//EN
CALSCALE:GREGORIAN
METHOD:PUBLISH
X-ORIGINAL-URL:https://spring-river.com.tw
X-WR-CALDESC:Events for 春河劇團
REFRESH-INTERVAL;VALUE=DURATION:PT1H
X-Robots-Tag:noindex
X-PUBLISHED-TTL:PT1H
BEGIN:VTIMEZONE
TZID:Asia/Taipei
BEGIN:STANDARD
TZOFFSETFROM:+0800
TZOFFSETTO:+0800
TZNAME:CST
DTSTART:20220101T000000
END:STANDARD
END:VTIMEZONE
BEGIN:VEVENT
DTSTART;TZID=Asia/Taipei:20231209T143000
DTEND;TZID=Asia/Taipei:20231209T170000
DTSTAMP:20260422T194142
CREATED:20230919T060157Z
LAST-MODIFIED:20231012T004851Z
UID:1037-1702132200-1702141200@spring-river.com.tw
SUMMARY:我妻我母我丈母娘 - 2023巡演台中12/09午場
DESCRIPTION:112年11/3 -12/10 巡演開跑 ！ \n劇情介紹 \n新娘帶球走，上車補票算什麼？\n看我妻新婚牽娘嫁，丈母娘大戰我老母！\n三個女人帶著對同一個男人的牽絆，分別以妻子、母親、丈母娘的身份再續前緣，連孟婆也被拖下水？！四人生活在一個屋簷下，盡為了雞毛蒜皮小事爭吵，說到底都是以愛為名，這錯縱複雜的愛能否有大和解的一天…。 \n且看郎祖筠、趙自強、呂雪鳳詼諧幽默又夾雜諷刺的演繹和對話。\n在笑與淚中道出為人子女、媳婦、女婿的各種愛與難處。 \n  \n演出場次 \n臺北親子劇場 11/03-05 (五)-(日)14：30、19：30\n桃園展演中心展演廳 11/11-12 (六)-(日)14：30\n高雄文化中心至德堂 11/25-26 (六)-(日)14：30\n臺中中山堂 12/09-10 (六)-(日)14：30 \n  \n購票連結
URL:https://spring-river.com.tw/event/my-wife-20231209-1/
LOCATION:臺中市中山堂\, 北區學士路98號\, 台中市\, 404\, 台灣
CATEGORIES:2023 我妻
ATTACH;FMTTYPE=image/jpeg:https://spring-river.com.tw/wp-content/uploads/2023/09/2K-100.jpg
ORGANIZER;CN="%E6%98%A5%E6%B2%B3%E5%8A%87%E5%9C%98":MAILTO:springsunpat@gmail.com
END:VEVENT
BEGIN:VEVENT
DTSTART;TZID=Asia/Taipei:20231210T143000
DTEND;TZID=Asia/Taipei:20231210T170000
DTSTAMP:20260422T194142
CREATED:20230919T060240Z
LAST-MODIFIED:20230928T081446Z
UID:1039-1702218600-1702227600@spring-river.com.tw
SUMMARY:我妻我母我丈母娘 - 2023巡演台中12/10午場
DESCRIPTION:112年11/3 -12/10 巡演開跑 ！ \n劇情介紹 \n新娘帶球走，上車補票算什麼？\n看我妻新婚牽娘嫁，丈母娘大戰我老母！\n三個女人帶著對同一個男人的牽絆，分別以妻子、母親、丈母娘的身份再續前緣，連孟婆也被拖下水？！四人生活在一個屋簷下，盡為了雞毛蒜皮小事爭吵，說到底都是以愛為名，這錯縱複雜的愛能否有大和解的一天…。 \n且看郎祖筠、趙自強、呂雪鳳詼諧幽默又夾雜諷刺的演繹和對話。\n在笑與淚中道出為人子女、媳婦、女婿的各種愛與難處。 \n  \n演出場次 \n臺北親子劇場 11/03-05 (五)-(日)14：30、19：30\n桃園展演中心展演廳 11/11-12 (六)-(日)14：30\n高雄文化中心至德堂 11/25-26 (六)-(日)14：30\n臺中中山堂 12/09-10 (六)-(日)14：30 \n  \n購票連結
URL:https://spring-river.com.tw/event/my-wife-20231210-1/
LOCATION:臺中市中山堂\, 北區學士路98號\, 台中市\, 404\, 台灣
CATEGORIES:2023 我妻
ATTACH;FMTTYPE=image/jpeg:https://spring-river.com.tw/wp-content/uploads/2023/09/2K-100.jpg
ORGANIZER;CN="%E6%98%A5%E6%B2%B3%E5%8A%87%E5%9C%98":MAILTO:springsunpat@gmail.com
END:VEVENT
BEGIN:VEVENT
DTSTART;TZID=Asia/Taipei:20231223T143000
DTEND;TZID=Asia/Taipei:20231223T170000
DTSTAMP:20260422T194142
CREATED:20231105T052145Z
LAST-MODIFIED:20231105T052339Z
UID:1368-1703341800-1703350800@spring-river.com.tw
SUMMARY:我妻我母我丈母娘 - 2023聖誕加演12/23午場
DESCRIPTION:112年12/23 -12/24 歡樂聖誕加演場 ！ \n劇情介紹 \n新娘帶球走，上車補票算什麼？\n看我妻新婚牽娘嫁，丈母娘大戰我老母！\n三個女人帶著對同一個男人的牽絆，分別以妻子、母親、丈母娘的身份再續前緣，連孟婆也被拖下水？！四人生活在一個屋簷下，盡為了雞毛蒜皮小事爭吵，說到底都是以愛為名，這錯縱複雜的愛能否有大和解的一天…。 \n且看郎祖筠、趙自強、呂雪鳳詼諧幽默又夾雜諷刺的演繹和對話。\n在笑與淚中道出為人子女、媳婦、女婿的各種愛與難處。 \n  \n演出場次 \n臺北國父見念館 12/23 (六)14：30\n臺北國父見念館 12/24 (日)14：30 \n  \n購票連結
URL:https://spring-river.com.tw/event/%e6%88%91%e5%a6%bb%e6%88%91%e6%af%8d%e6%88%91%e4%b8%88%e6%af%8d%e5%a8%98-2023%e8%81%96%e8%aa%95%e5%8a%a0%e6%bc%9412-23%e5%8d%88%e5%a0%b4/
LOCATION:臺北國父紀念館\, 信義區仁愛路四段505號\, 台北市\, 110\, 台灣
CATEGORIES:2023 我妻
ATTACH;FMTTYPE=image/jpeg:https://spring-river.com.tw/wp-content/uploads/2023/11/我妻1920x1080.jpg
ORGANIZER;CN="%E6%98%A5%E6%B2%B3%E5%8A%87%E5%9C%98":MAILTO:springsunpat@gmail.com
END:VEVENT
BEGIN:VEVENT
DTSTART;TZID=Asia/Taipei:20231224T143000
DTEND;TZID=Asia/Taipei:20231224T170000
DTSTAMP:20260422T194142
CREATED:20231105T052438Z
LAST-MODIFIED:20231105T052438Z
UID:1375-1703428200-1703437200@spring-river.com.tw
SUMMARY:我妻我母我丈母娘 - 2023聖誕加演12/24午場
DESCRIPTION:112年12/23 -12/24 歡樂聖誕加演場 ！ \n劇情介紹 \n新娘帶球走，上車補票算什麼？\n看我妻新婚牽娘嫁，丈母娘大戰我老母！\n三個女人帶著對同一個男人的牽絆，分別以妻子、母親、丈母娘的身份再續前緣，連孟婆也被拖下水？！四人生活在一個屋簷下，盡為了雞毛蒜皮小事爭吵，說到底都是以愛為名，這錯縱複雜的愛能否有大和解的一天…。 \n且看郎祖筠、趙自強、呂雪鳳詼諧幽默又夾雜諷刺的演繹和對話。\n在笑與淚中道出為人子女、媳婦、女婿的各種愛與難處。 \n  \n演出場次 \n臺北國父見念館 12/23 (六)14：30\n臺北國父見念館 12/24 (日)14：30 \n  \n購票連結
URL:https://spring-river.com.tw/event/%e6%88%91%e5%a6%bb%e6%88%91%e6%af%8d%e6%88%91%e4%b8%88%e6%af%8d%e5%a8%98-2023%e8%81%96%e8%aa%95%e5%8a%a0%e6%bc%9412-24%e5%8d%88%e5%a0%b4/
LOCATION:臺北國父紀念館\, 信義區仁愛路四段505號\, 台北市\, 110\, 台灣
CATEGORIES:2023 我妻
ATTACH;FMTTYPE=image/jpeg:https://spring-river.com.tw/wp-content/uploads/2023/11/我妻1920x1080.jpg
ORGANIZER;CN="%E6%98%A5%E6%B2%B3%E5%8A%87%E5%9C%98":MAILTO:springsunpat@gmail.com
END:VEVENT
END:VCALENDAR